BEGIN:VCALENDAR
VERSION:2.0
PRODID:-//OWHS86 Reunion//the1986reunion.com//EN
CALSCALE:GREGORIAN
METHOD:PUBLISH
BEGIN:VEVENT
UID:owhs86-reunion-saturday-2026@the1986reunion.com
DTSTAMP:20260425T000000Z
DTSTART:20260815T160000Z
DTEND:20260815T210000Z
SUMMARY:OWHS '86 Reunion · Cookout + Pub Crawl
DESCRIPTION:Cookout at Abe Rochlin Park. Potluck — bring a dish! Donations welcome. Pub crawl follows the cookout. More info: https://the1986reunion.com
LOCATION:Abe Rochlin Park\, 1300 N Sawyer St\, Oshkosh WI 54902
URL:https://the1986reunion.com/#saturday
END:VEVENT
END:VCALENDAR
