BEGIN:VCALENDAR
VERSION:2.0
PRODID:-//OWHS86 Reunion//the1986reunion.com//EN
CALSCALE:GREGORIAN
METHOD:PUBLISH
BEGIN:VEVENT
UID:owhs86-reunion-thursday-2026@the1986reunion.com
DTSTAMP:20260425T000000Z
DTSTART:20260813T230000Z
DTEND:20260814T040000Z
SUMMARY:OWHS '86 Reunion · Pre-Party (Waterfest · Starship)
DESCRIPTION:Meet & Greet at Waterfest Oshkosh — headliner Starship. Meet right of the stage\, northeast corner. Wear your 1986 class tee. After the show\, head downtown together. More info: https://the1986reunion.com
LOCATION:Leach Amphitheater\, 305 Ceape Ave\, Oshkosh WI 54901
URL:https://the1986reunion.com/#thursday
END:VEVENT
END:VCALENDAR
